BEGIN:VCALENDAR
VERSION:2.0
PRODID:-//J. B. Patterson Men&#039;s Club - ECPv6.0.6.2//NONSGML v1.0//EN
CALSCALE:GREGORIAN
METHOD:PUBLISH
X-WR-CALNAME:J. B. Patterson Men&#039;s Club
X-ORIGINAL-URL:https://jbpmensclub.com
X-WR-CALDESC:Events for J. B. Patterson Men&#039;s Club
REFRESH-INTERVAL;VALUE=DURATION:PT1H
X-Robots-Tag:noindex
X-PUBLISHED-TTL:PT1H
BEGIN:VTIMEZONE
TZID:UTC
BEGIN:STANDARD
TZOFFSETFROM:+0000
TZOFFSETTO:+0000
TZNAME:UTC
DTSTART:20180101T000000
END:STANDARD
END:VTIMEZONE
BEGIN:VEVENT
DTSTART;TZID=UTC:20210710T110000
DTEND;TZID=UTC:20210710T140000
DTSTAMP:20260425T125950
CREATED:20210626T184741Z
LAST-MODIFIED:20210701T014048Z
UID:792-1625914800-1625925600@jbpmensclub.com
SUMMARY:Fundraiser: Fish Fry
DESCRIPTION:fundraiser fish fry june 10 2021 revised\n 
URL:https://jbpmensclub.com/event/fundraiser-fish-fry/
LOCATION:Men’s Club of St. Stephen’s\, 228 Halifax Street\, Petersburg\, Virginia\, 23803
END:VEVENT
BEGIN:VEVENT
DTSTART;TZID=UTC:20210421T160000
DTEND;TZID=UTC:20210421T180000
DTSTAMP:20260425T125950
CREATED:20210401T185812Z
LAST-MODIFIED:20210401T185812Z
UID:780-1619020800-1619028000@jbpmensclub.com
SUMMARY:Petersburg Food Distribution
DESCRIPTION:New Petersburg Distribution flyer 1
URL:https://jbpmensclub.com/event/petersburg-food-distribution/
LOCATION:Good Shepard Baptist Church\, 2223 S. Crater Road\, Petersburg\, VA\, 23805\, United States
END:VEVENT
BEGIN:VEVENT
DTSTART;TZID=UTC:20210411T113000
DTEND;TZID=UTC:20210411T130000
DTSTAMP:20260425T125950
CREATED:20210401T190735Z
LAST-MODIFIED:20210401T190735Z
UID:787-1618140600-1618146000@jbpmensclub.com
SUMMARY:Men's Club Meeting
DESCRIPTION:The Men’s Club will meet immediately following Morning Prayer Service on Sunday\, April 4\, 2021 via ZOOM.
URL:https://jbpmensclub.com/event/mens-club-meeting-3/
LOCATION:Men’s Club of St. Stephen’s\, 228 Halifax Street\, Petersburg\, Virginia\, 23803
END:VEVENT
BEGIN:VEVENT
DTSTART;VALUE=DATE:20210404
DTEND;VALUE=DATE:20210405
DTSTAMP:20260425T125950
CREATED:20210401T190413Z
LAST-MODIFIED:20210401T190434Z
UID:785-1617494400-1617580799@jbpmensclub.com
SUMMARY:EASTER SUNDAY
DESCRIPTION:
URL:https://jbpmensclub.com/event/easter-sunday/
LOCATION:Virginia
END:VEVENT
BEGIN:VEVENT
DTSTART;TZID=UTC:20210216T180000
DTEND;TZID=UTC:20210216T184000
DTSTAMP:20260425T125950
CREATED:20210212T004258Z
LAST-MODIFIED:20210213T143213Z
UID:755-1613498400-1613500800@jbpmensclub.com
SUMMARY:Shrove Tuesday/Virtual Pancake Supper 2021
DESCRIPTION:FAT TUESDAY \nPANCAKE SUPPER VIA Google Meet \nFebruary 16th \n6:00PM – 40PM (40 mins.) \nAbout dinner that night? Come share your hot off-the-griddle pancakes\, maple syrup\, ham\, bacon\, sausage\, and beverages with your church family! The Men’s Club of St. Stephen’s invites you to join our virtual dinner and share your display while listening to music\, playing games\, and conversation.
URL:https://jbpmensclub.com/event/shrove-tuesday-virtual-pancake-supper-2021/
LOCATION:Google Meet
END:VEVENT
BEGIN:VEVENT
DTSTART;TZID=UTC:20200929T160000
DTEND;TZID=UTC:20200929T180000
DTSTAMP:20260425T125950
CREATED:20200915T014504Z
LAST-MODIFIED:20200915T014504Z
UID:700-1601395200-1601402400@jbpmensclub.com
SUMMARY:Kids Summer Food Program 2020
DESCRIPTION:flyer 2020 for KSFP 9.12.20
URL:https://jbpmensclub.com/event/kids-summer-food-program-2020-3/
LOCATION:St. Stephen’s Episcopal Church\, 228 Halifax Street\, Petersburg\, VA\, 23803\, United States
ORGANIZER;CN="Nancy%20Ross%20%2F%20Clifton%20Dickens%20Sr.":MAILTO:cdickens.mens.club@comcast.net
END:VEVENT
BEGIN:VEVENT
DTSTART;TZID=UTC:20200922T160000
DTEND;TZID=UTC:20200922T180000
DTSTAMP:20260425T125950
CREATED:20200915T014402Z
LAST-MODIFIED:20200915T014402Z
UID:698-1600790400-1600797600@jbpmensclub.com
SUMMARY:Kids Summer Food Program 2020
DESCRIPTION:flyer 2020 for KSFP 9.12.20
URL:https://jbpmensclub.com/event/kids-summer-food-program-2020-2/
LOCATION:St. Stephen’s Episcopal Church\, 228 Halifax Street\, Petersburg\, VA\, 23803\, United States
ORGANIZER;CN="Nancy%20Ross%20%2F%20Clifton%20Dickens%20Sr.":MAILTO:cdickens.mens.club@comcast.net
END:VEVENT
BEGIN:VEVENT
DTSTART;TZID=UTC:20200915T160000
DTEND;TZID=UTC:20200915T180000
DTSTAMP:20260425T125950
CREATED:20200915T014239Z
LAST-MODIFIED:20200915T014246Z
UID:696-1600185600-1600192800@jbpmensclub.com
SUMMARY:Kids Summer Food Program 2020
DESCRIPTION:flyer 2020 for KSFP 9.12.20
URL:https://jbpmensclub.com/event/kids-summer-food-program-2020/
LOCATION:St. Stephen’s Episcopal Church\, 228 Halifax Street\, Petersburg\, VA\, 23803\, United States
ORGANIZER;CN="Nancy%20Ross%20%2F%20Clifton%20Dickens%20Sr.":MAILTO:cdickens.mens.club@comcast.net
END:VEVENT
BEGIN:VEVENT
DTSTART;TZID=UTC:20200831T160000
DTEND;TZID=UTC:20200831T180000
DTSTAMP:20260425T125950
CREATED:20200828T211535Z
LAST-MODIFIED:20200828T211611Z
UID:685-1598889600-1598896800@jbpmensclub.com
SUMMARY:Kids Summer Food Program
DESCRIPTION:flyer 2020 for KSFP 7.1.20 1\n\n 
URL:https://jbpmensclub.com/event/kids-summer-food-program-3/
LOCATION:St. Stephen’s Episcopal Church\, 228 Halifax Street\, Petersburg\, VA\, 23803\, United States
ORGANIZER;CN="Nancy%20Ross%20%2F%20Clifton%20Dickens%20Sr.":MAILTO:cdickens.mens.club@comcast.net
END:VEVENT
BEGIN:VEVENT
DTSTART;TZID=UTC:20200714T160000
DTEND;TZID=UTC:20200714T180000
DTSTAMP:20260425T125950
CREATED:20200704T231510Z
LAST-MODIFIED:20200704T231510Z
UID:665-1594742400-1594749600@jbpmensclub.com
SUMMARY:Kids Summer Food Program
DESCRIPTION:flyer 2020 for KSFP 7.1.20 1
URL:https://jbpmensclub.com/event/kids-summer-food-program-2/
LOCATION:St. Stephen’s Episcopal Church\, 228 Halifax Street\, Petersburg\, VA\, 23803\, United States
ORGANIZER;CN="Nancy%20Ross%20%2F%20Clifton%20Dickens%20Sr.":MAILTO:cdickens.mens.club@comcast.net
END:VEVENT
BEGIN:VEVENT
DTSTART;TZID=UTC:20200707T160000
DTEND;TZID=UTC:20200707T180000
DTSTAMP:20260425T125950
CREATED:20200704T230623Z
LAST-MODIFIED:20200704T230641Z
UID:661-1594137600-1594144800@jbpmensclub.com
SUMMARY:Kids Summer Food Program
DESCRIPTION:flyer 2020 for KSFP 7.1.20 1
URL:https://jbpmensclub.com/event/kids-summer-food-program/
LOCATION:St. Stephen’s Episcopal Church\, 228 Halifax Street\, Petersburg\, VA\, 23803\, United States
ORGANIZER;CN="Nancy%20Ross%20%2F%20Clifton%20Dickens%20Sr.":MAILTO:cdickens.mens.club@comcast.net
END:VEVENT
BEGIN:VEVENT
DTSTART;TZID=UTC:20200605T080000
DTEND;TZID=UTC:20200605T170000
DTSTAMP:20260425T125950
CREATED:20200603T212229Z
LAST-MODIFIED:20200603T213323Z
UID:645-1591344000-1591376400@jbpmensclub.com
SUMMARY:March for Racial Justice June 5\, 2020
DESCRIPTION:
URL:https://jbpmensclub.com/event/march-for-racial-justice-june-5-2020/
LOCATION:City of Petersburg\, Hope Center
ORGANIZER;CN="Yolanda%20Norace%20Mills":MAILTO:cdickens.mens.club@comcast.net
END:VEVENT
BEGIN:VEVENT
DTSTART;TZID=UTC:20200510T113000
DTEND;TZID=UTC:20200510T133000
DTSTAMP:20260425T125950
CREATED:20200519T045931Z
LAST-MODIFIED:20200519T045931Z
UID:639-1589110200-1589117400@jbpmensclub.com
SUMMARY:Mother's Day Lunch (pick-up)
DESCRIPTION:
URL:https://jbpmensclub.com/event/mothers-day-lunch-pick-up/
LOCATION:St. Stephen’s Episcopal Church – Parish Hall\, 228 Halifax Street\, Petersburg\, VA\, 23805\, United States
ORGANIZER;CN="Yolanda%20Norace%20Mills":MAILTO:cdickens.mens.club@comcast.net
END:VEVENT
BEGIN:VEVENT
DTSTART;VALUE=DATE:20191111
DTEND;VALUE=DATE:20191112
DTSTAMP:20260425T125950
CREATED:20191016T032904Z
LAST-MODIFIED:20191016T032904Z
UID:541-1573430400-1573516799@jbpmensclub.com
SUMMARY:Veterans Day
DESCRIPTION:
URL:https://jbpmensclub.com/event/veterans-day/
LOCATION:Virginia
END:VEVENT
BEGIN:VEVENT
DTSTART;TZID=UTC:20191110T103000
DTEND;TZID=UTC:20191110T143000
DTSTAMP:20260425T125950
CREATED:20191016T030113Z
LAST-MODIFIED:20191016T030113Z
UID:532-1573381800-1573396200@jbpmensclub.com
SUMMARY:Men's Day 2019
DESCRIPTION:Men'sDay2019 flyer.outgoing.mail
URL:https://jbpmensclub.com/event/mens-day-2019/
LOCATION:St. Stephen’s Episcopal Church – Parish Hall\, 228 Halifax Street\, Petersburg\, VA\, 23805\, United States
ORGANIZER;CN="Yolanda%20Norace%20Mills":MAILTO:cdickens.mens.club@comcast.net
END:VEVENT
BEGIN:VEVENT
DTSTART;VALUE=DATE:20191020
DTEND;VALUE=DATE:20191117
DTSTAMP:20260425T125950
CREATED:20191016T030943Z
LAST-MODIFIED:20191031T035541Z
UID:537-1571529600-1573948799@jbpmensclub.com
SUMMARY:Fundraiser: Thanksgiving Special 2019
DESCRIPTION:Thanksgiving 2019 Flyer (1)\n\nFundraiser.ThanksgivingSpecial10.20.19orderform.jbp
URL:https://jbpmensclub.com/event/fundraiser-thanksgiving-special/
LOCATION:Virginia
ORGANIZER;CN="Yolanda%20Norace%20Mills":MAILTO:cdickens.mens.club@comcast.net
END:VEVENT
BEGIN:VEVENT
DTSTART;TZID=UTC:20191013T120000
DTEND;TZID=UTC:20191013T130000
DTSTAMP:20260425T125950
CREATED:20191023T052444Z
LAST-MODIFIED:20191023T052444Z
UID:602-1570968000-1570971600@jbpmensclub.com
SUMMARY:Men's Club Meeting
DESCRIPTION:
URL:https://jbpmensclub.com/event/mens-club-meeting-2/
LOCATION:St. Stephen’s Episcopal Church – Parish Hall\, 228 Halifax Street\, Petersburg\, VA\, 23805\, United States
ORGANIZER;CN="Yolanda%20Norace%20Mills":MAILTO:cdickens.mens.club@comcast.net
END:VEVENT
BEGIN:VEVENT
DTSTART;VALUE=DATE:20191005
DTEND;VALUE=DATE:20191006
DTSTAMP:20260425T125950
CREATED:20190912T155413Z
LAST-MODIFIED:20190912T155413Z
UID:502-1570233600-1570319999@jbpmensclub.com
SUMMARY:Walk Against Hunger 2019
DESCRIPTION:Walk Against Hunger \nDowntown Churches United / Hope Center is sponsoring the annual Walk Against Hunger\, Saturday\, October 5th.  See the bulletin board in the parish hall for additional information. \n\n 
URL:https://jbpmensclub.com/event/walk-against-hunger-2019/
LOCATION:City of Petersburg\, Hope Center
END:VEVENT
BEGIN:VEVENT
DTSTART;TZID=UTC:20190915T123000
DTEND;TZID=UTC:20190915T133000
DTSTAMP:20260425T125950
CREATED:20190110T231838Z
LAST-MODIFIED:20190911T043234Z
UID:210-1568550600-1568554200@jbpmensclub.com
SUMMARY:Men's Club Meeting
DESCRIPTION:
URL:https://jbpmensclub.com/event/mens-club-meeting/
LOCATION:St. Stephen’s Episcopal Church – Parish Hall\, 228 Halifax Street\, Petersburg\, VA\, 23805\, United States
ORGANIZER;CN="Yolanda%20Norace%20Mills":MAILTO:cdickens.mens.club@comcast.net
END:VEVENT
BEGIN:VEVENT
DTSTART;TZID=UTC:20190901T080000
DTEND;TZID=UTC:20190930T170000
DTSTAMP:20260425T125950
CREATED:20190912T155635Z
LAST-MODIFIED:20190912T160546Z
UID:505-1567324800-1569862800@jbpmensclub.com
SUMMARY:Donate School Supplies
DESCRIPTION:DonateSchoolSupplies.1Teacher’s Closet \n\n 
URL:https://jbpmensclub.com/event/donate-school-supplies/
LOCATION:St. Stephen’s Episcopal Church – Parish Hall\, 228 Halifax Street\, Petersburg\, VA\, 23805\, United States
ORGANIZER;CN="St.%20Stephen%27s%20Liturgical%20Committee":MAILTO:ststephensepiscopal@yahoo.com
END:VEVENT
BEGIN:VEVENT
DTSTART;TZID=UTC:20190209T170000
DTEND;TZID=UTC:20190209T203000
DTSTAMP:20260425T125950
CREATED:20190124T192436Z
LAST-MODIFIED:20190124T192436Z
UID:226-1549731600-1549744200@jbpmensclub.com
SUMMARY:TASTE & SEE PAINT PARTY
DESCRIPTION:Paint Party 2 9 19
URL:https://jbpmensclub.com/event/taste-see-paint-party/
LOCATION:Virginia
ORGANIZER;CN="St.%20Stephen%27s%20ECW":MAILTO:ststephensepiscopal@yahoo.com
END:VEVENT
BEGIN:VEVENT
DTSTART;TZID=UTC:20181228T140000
DTEND;TZID=UTC:20181228T160000
DTSTAMP:20260425T125950
CREATED:20181128T015304Z
LAST-MODIFIED:20181210T061618Z
UID:40-1546005600-1546012800@jbpmensclub.com
SUMMARY:Children's Holiday Party
DESCRIPTION:Storyteller Rev Delano Douglas
URL:https://jbpmensclub.com/event/childrens-holiday-party/
LOCATION:Virginia
ORGANIZER;CN="ECW":MAILTO:ststephensepiscopal@yahoo.com
END:VEVENT
BEGIN:VEVENT
DTSTART;TZID=UTC:20181209T103000
DTEND;TZID=UTC:20181209T140000
DTSTAMP:20260425T125950
CREATED:20181128T012804Z
LAST-MODIFIED:20181128T012804Z
UID:37-1544351400-1544364000@jbpmensclub.com
SUMMARY:Congregational Meeting (Parochial Meeting)
DESCRIPTION:
URL:https://jbpmensclub.com/event/congregational-meeting-parochial-meeting/
LOCATION:St. Stephen’s Episcopal Church – Parish Hall\, 228 Halifax Street\, Petersburg\, VA\, 23805\, United States
ORGANIZER;CN="Vestry":MAILTO:ststephensepiscopal@yahoo.com
END:VEVENT
BEGIN:VEVENT
DTSTART;TZID=UTC:20181104T103000
DTEND;TZID=UTC:20181104T140000
DTSTAMP:20260425T125950
CREATED:20181127T211937Z
LAST-MODIFIED:20181127T211937Z
UID:31-1541327400-1541340000@jbpmensclub.com
SUMMARY:Men's Day 2018
DESCRIPTION:
URL:https://jbpmensclub.com/event/mens-day-2018/
LOCATION:St. Stephen’s Episcopal Church – Parish Hall\, 228 Halifax Street\, Petersburg\, VA\, 23805\, United States
ORGANIZER;CN="Yolanda%20Norace%20Mills":MAILTO:cdickens.mens.club@comcast.net
END:VEVENT
END:VCALENDAR